BEGIN:VCALENDAR
VERSION:2.0
PRODID:-//Mental Health Europe - ECPv6.15.20//NONSGML v1.0//EN
CALSCALE:GREGORIAN
METHOD:PUBLISH
X-ORIGINAL-URL:https://www.mentalhealtheurope.org
X-WR-CALDESC:Events for Mental Health Europe
REFRESH-INTERVAL;VALUE=DURATION:PT1H
X-Robots-Tag:noindex
X-PUBLISHED-TTL:PT1H
BEGIN:VTIMEZONE
TZID:Europe/Paris
BEGIN:DAYLIGHT
TZOFFSETFROM:+0100
TZOFFSETTO:+0200
TZNAME:CEST
DTSTART:20240331T010000
END:DAYLIGHT
BEGIN:STANDARD
TZOFFSETFROM:+0200
TZOFFSETTO:+0100
TZNAME:CET
DTSTART:20241027T010000
END:STANDARD
BEGIN:DAYLIGHT
TZOFFSETFROM:+0100
TZOFFSETTO:+0200
TZNAME:CEST
DTSTART:20250330T010000
END:DAYLIGHT
BEGIN:STANDARD
TZOFFSETFROM:+0200
TZOFFSETTO:+0100
TZNAME:CET
DTSTART:20251026T010000
END:STANDARD
BEGIN:DAYLIGHT
TZOFFSETFROM:+0100
TZOFFSETTO:+0200
TZNAME:CEST
DTSTART:20260329T010000
END:DAYLIGHT
BEGIN:STANDARD
TZOFFSETFROM:+0200
TZOFFSETTO:+0100
TZNAME:CET
DTSTART:20261025T010000
END:STANDARD
END:VTIMEZONE
BEGIN:VEVENT
DTSTART;TZID=Europe/Paris:20250522T150000
DTEND;TZID=Europe/Paris:20250522T170000
DTSTAMP:20260423T193750
CREATED:20250508T101707Z
LAST-MODIFIED:20250508T101707Z
UID:10000043-1747926000-1747933200@www.mentalhealtheurope.org
SUMMARY:Voices from the Ground: Investing in Social Support for Mental Wellness
DESCRIPTION:“Voices from the Ground: Investing in Social Support for Mental Wellness” is a hybrid panel discussion organized by Afya Care Foundation during the European Mental Health Week 2025\, under the theme “Care for mental health\, invest in social rights.” This event seeks to highlight the importance of grassroots efforts and social support systems in promoting mental well-being\, especially in underserved communities across Eastern Africa.\nDrawing from firsthand experiences\, the event will bring together mental health practitioners\, community workers\, youth advocates\, and individuals with lived experience to explore how investing in social rights—such as access to education\, housing\, healthcare\, and protection from discrimination—directly impacts mental health outcomes. Panelists will share practical examples of community-led initiatives\, such as school outreach programs\, mental health awareness campaigns\, and psychosocial support for marginalized groups. \nThe discussion aims to amplify local voices\, encourage international collaboration\, and showcase scalable models of care that bridge the gap between policy and practice. Participants will also engage in dialogue around systemic challenges such as stigma\, poverty\, and limited access to services\, with a focus on sustainable solutions. \nUltimately\, the event aspires to inspire inclusive investment in mental health that centers on dignity\, equity\, and social justice—aligning perfectly with the goals of EMHW 2025.
URL:https://www.mentalhealtheurope.org/emhw-event/voices-from-the-ground-investing-in-social-support-for-mental-wellness/
CATEGORIES:External Event
END:VEVENT
END:VCALENDAR