BEGIN:VCALENDAR
VERSION:2.0
PRODID:-//Mental Health Europe - ECPv6.15.20//NONSGML v1.0//EN
CALSCALE:GREGORIAN
METHOD:PUBLISH
X-WR-CALNAME:Mental Health Europe
X-ORIGINAL-URL:https://www.mentalhealtheurope.org
X-WR-CALDESC:Events for Mental Health Europe
REFRESH-INTERVAL;VALUE=DURATION:PT1H
X-Robots-Tag:noindex
X-PUBLISHED-TTL:PT1H
BEGIN:VTIMEZONE
TZID:Europe/Paris
BEGIN:DAYLIGHT
TZOFFSETFROM:+0100
TZOFFSETTO:+0200
TZNAME:CEST
DTSTART:20240331T010000
END:DAYLIGHT
BEGIN:STANDARD
TZOFFSETFROM:+0200
TZOFFSETTO:+0100
TZNAME:CET
DTSTART:20241027T010000
END:STANDARD
BEGIN:DAYLIGHT
TZOFFSETFROM:+0100
TZOFFSETTO:+0200
TZNAME:CEST
DTSTART:20250330T010000
END:DAYLIGHT
BEGIN:STANDARD
TZOFFSETFROM:+0200
TZOFFSETTO:+0100
TZNAME:CET
DTSTART:20251026T010000
END:STANDARD
BEGIN:DAYLIGHT
TZOFFSETFROM:+0100
TZOFFSETTO:+0200
TZNAME:CEST
DTSTART:20260329T010000
END:DAYLIGHT
BEGIN:STANDARD
TZOFFSETFROM:+0200
TZOFFSETTO:+0100
TZNAME:CET
DTSTART:20261025T010000
END:STANDARD
END:VTIMEZONE
BEGIN:VEVENT
DTSTART;TZID=Europe/Paris:20250522T140000
DTEND;TZID=Europe/Paris:20250522T153000
DTSTAMP:20260420T103611
CREATED:20250507T084130Z
LAST-MODIFIED:20250521T092449Z
UID:10000036-1747922400-1747927800@www.mentalhealtheurope.org
SUMMARY:Brilliant but Burned Out. Mental Health\, Precarity\, and the Future of Research
DESCRIPTION:Mental health among early-career researchers is a growing concern. Numerous studies show that PhD candidates are at high risk of developing issues such as depression\, anxiety\, and burnout (e.g.\, Mattijssen et al.\, 2021). Common causes include excessive workload\, high expectations\, lack of work-life balance\, and deep uncertainty about the future (Levecque\, 2018). Despite growing awareness\, practical prevention strategies and structural support remain limited (Satinsky et al.\, 2021). \nAlthough research and innovation are essential to societal progress\, the role of the researcher remains deeply precarious. Many projects lack stable funding\, and budget cuts in research and development undermine the sovereignty and independence of academic work. Researchers face pressure from the “publish or perish” culture\, limited career prospects\, high mobility demands\, and systemic undervaluation of their contributions — all contributing to psychological distress. \nThis presentation aims to:\n1) Raise mental health awareness among PhD students\, researchers\, and higher education leaders;\n2) Reflect on the working conditions in academia\, including job insecurity\, lack of funding\, and performance pressures;\n3) Encourage discussion about shared responsibility and identify actions that policymakers\, institutions\, and researchers themselves can take to improve working conditions and well-being. \nIn line with the EMHW 2025 theme “Care for mental health\, invest in social rights\,” this session highlights how fair employment\, recognition\, and stable conditions are essential for protecting researchers’ mental health and sustaining the future of academic work. \nRegister now
URL:https://www.mentalhealtheurope.org/emhw-event/brilliant-but-burned-out-mental-health-precarity-and-the-future-of-research/
LOCATION:Online
CATEGORIES:External Event
ATTACH;FMTTYPE=image/png:https://www.mentalhealtheurope.org/wp-content/uploads/2025/05/BrilliantButBurnedOut_Facebook.png
END:VEVENT
END:VCALENDAR