BEGIN:VCALENDAR
VERSION:2.0
PRODID:-//Mental Health Europe - ECPv6.15.20//NONSGML v1.0//EN
CALSCALE:GREGORIAN
METHOD:PUBLISH
X-ORIGINAL-URL:https://www.mentalhealtheurope.org
X-WR-CALDESC:Events for Mental Health Europe
REFRESH-INTERVAL;VALUE=DURATION:PT1H
X-Robots-Tag:noindex
X-PUBLISHED-TTL:PT1H
BEGIN:VTIMEZONE
TZID:Europe/Paris
BEGIN:DAYLIGHT
TZOFFSETFROM:+0100
TZOFFSETTO:+0200
TZNAME:CEST
DTSTART:20250330T010000
END:DAYLIGHT
BEGIN:STANDARD
TZOFFSETFROM:+0200
TZOFFSETTO:+0100
TZNAME:CET
DTSTART:20251026T010000
END:STANDARD
BEGIN:DAYLIGHT
TZOFFSETFROM:+0100
TZOFFSETTO:+0200
TZNAME:CEST
DTSTART:20260329T010000
END:DAYLIGHT
BEGIN:STANDARD
TZOFFSETFROM:+0200
TZOFFSETTO:+0100
TZNAME:CET
DTSTART:20261025T010000
END:STANDARD
BEGIN:DAYLIGHT
TZOFFSETFROM:+0100
TZOFFSETTO:+0200
TZNAME:CEST
DTSTART:20270328T010000
END:DAYLIGHT
BEGIN:STANDARD
TZOFFSETFROM:+0200
TZOFFSETTO:+0100
TZNAME:CET
DTSTART:20271031T010000
END:STANDARD
END:VTIMEZONE
BEGIN:VEVENT
DTSTART;TZID=Europe/Paris:20260507T144500
DTEND;TZID=Europe/Paris:20260507T164500
DTSTAMP:20260423T132836
CREATED:20260414T094311Z
LAST-MODIFIED:20260418T134449Z
UID:10000062-1778165100-1778172300@www.mentalhealtheurope.org
SUMMARY:Take Care at Circus Connect: mental health in circus arts
DESCRIPTION:A two-day gathering on 7–8 May will bring together the Circus Connect partners to exchange\, collaborate\, and collectively imagine the future of the sector. \nCircus Connect is a collaboration between 3 European and international circus networks: the European Youth Circus Organisation (EYCO)\, Caravan Circus Network\, and FEDEC – International network for professional circus education. Supported by Erasmus+\, this partnership aims to strengthen dialogue and cooperation between youth circus\, social circus\, and professional circus education across Europe.\n \n\n\nDuring the event\, FEDEC will present Take Care (2024–2027)\, the first EU project dedicated to mental health and well-being in the circus arts sector\, co-funded by Creative Europe.\n \n\nThe programme includes:\n\n\n– A presentation by Rogier van Rijn (Codarts\, NLD) of the results of the Take Care survey on student mental health\, led in 17 professional circus schools in collaboration with the Research Department of Codarts to better understanding students’ experiences and needs in order to strengthen support systems for well-being in circus education.\n– A screening of the film “my own box”\, by Filip Jacobson (DEU) to raise awareness on mental health issues in circus professional practice\, followed by a discussion with artist Alice Rende (Compagnie AR\, FRA)\, Carlos Vianna\, Director of the École de Cirque de Châtellerault (FRA)\, and Isabel Joly\, Director of FEDEC (BEL)\, who will be moderating.\n\n\n\nThis event will be a space for sharing experiences\, opening conversations\, and strengthening care practices across the circus community.\n\n  \nSocial Media Links \n\nhttps://www.instagram.com/fedec_network/\nhttps://www.facebook.com/FEDECpro
URL:https://www.mentalhealtheurope.org/emhw-event/take-care-at-circus-connect-mental-health-in-circus-arts/
LOCATION:Las Palmas de Gran Canaria\, ES
CATEGORIES:External Event
END:VEVENT
END:VCALENDAR